BEGIN:VCALENDAR
VERSION:2.0
PRODID:-//Security Force - ECPv6.15.20//NONSGML v1.0//EN
CALSCALE:GREGORIAN
METHOD:PUBLISH
X-ORIGINAL-URL:https://securityforcenow.com
X-WR-CALDESC:Events for Security Force
REFRESH-INTERVAL;VALUE=DURATION:PT1H
X-Robots-Tag:noindex
X-PUBLISHED-TTL:PT1H
BEGIN:VTIMEZONE
TZID:America/Indiana/Indianapolis
BEGIN:DAYLIGHT
TZOFFSETFROM:-0500
TZOFFSETTO:-0400
TZNAME:EDT
DTSTART:20250309T070000
END:DAYLIGHT
BEGIN:STANDARD
TZOFFSETFROM:-0400
TZOFFSETTO:-0500
TZNAME:EST
DTSTART:20251102T060000
END:STANDARD
BEGIN:DAYLIGHT
TZOFFSETFROM:-0500
TZOFFSETTO:-0400
TZNAME:EDT
DTSTART:20260308T070000
END:DAYLIGHT
BEGIN:STANDARD
TZOFFSETFROM:-0400
TZOFFSETTO:-0500
TZNAME:EST
DTSTART:20261101T060000
END:STANDARD
BEGIN:DAYLIGHT
TZOFFSETFROM:-0500
TZOFFSETTO:-0400
TZNAME:EDT
DTSTART:20270314T070000
END:DAYLIGHT
BEGIN:STANDARD
TZOFFSETFROM:-0400
TZOFFSETTO:-0500
TZNAME:EST
DTSTART:20271107T060000
END:STANDARD
END:VTIMEZONE
BEGIN:VEVENT
DTSTART;TZID=America/Indiana/Indianapolis:20260414T163000
DTEND;TZID=America/Indiana/Indianapolis:20260414T180000
DTSTAMP:20260424T132426
CREATED:20260403T125645Z
LAST-MODIFIED:20260403T125645Z
UID:10002965-1776184200-1776189600@securityforcenow.com
SUMMARY:Chamber Happy Hour
DESCRIPTION:Join us for the Plainfield Chamber Happy Hour\, a relaxed and enjoyable after-hours networking event! Connect with fellow professionals in a friendly setting while enjoying your first drink on us and complimentary appetizers (while they last). Don’t miss this perfect opportunity to unwind\, make new connections\, and strengthen your professional network. We look forward to seeing you there!
URL:https://securityforcenow.com/event/chamber-happy-hour/
LOCATION:The Oaks at Plainfield\, 855 Southfield Dr.\, Plainfield\, IN\, 46168
END:VEVENT
END:VCALENDAR