BEGIN:VCALENDAR
VERSION:2.0
PRODID:-//Security Force - ECPv6.15.20//NONSGML v1.0//EN
CALSCALE:GREGORIAN
METHOD:PUBLISH
X-WR-CALNAME:Security Force
X-ORIGINAL-URL:https://securityforcenow.com
X-WR-CALDESC:Events for Security Force
REFRESH-INTERVAL;VALUE=DURATION:PT1H
X-Robots-Tag:noindex
X-PUBLISHED-TTL:PT1H
BEGIN:VTIMEZONE
TZID:America/Indiana/Indianapolis
BEGIN:DAYLIGHT
TZOFFSETFROM:-0500
TZOFFSETTO:-0400
TZNAME:EDT
DTSTART:20250309T070000
END:DAYLIGHT
BEGIN:STANDARD
TZOFFSETFROM:-0400
TZOFFSETTO:-0500
TZNAME:EST
DTSTART:20251102T060000
END:STANDARD
BEGIN:DAYLIGHT
TZOFFSETFROM:-0500
TZOFFSETTO:-0400
TZNAME:EDT
DTSTART:20260308T070000
END:DAYLIGHT
BEGIN:STANDARD
TZOFFSETFROM:-0400
TZOFFSETTO:-0500
TZNAME:EST
DTSTART:20261101T060000
END:STANDARD
BEGIN:DAYLIGHT
TZOFFSETFROM:-0500
TZOFFSETTO:-0400
TZNAME:EDT
DTSTART:20270314T070000
END:DAYLIGHT
BEGIN:STANDARD
TZOFFSETFROM:-0400
TZOFFSETTO:-0500
TZNAME:EST
DTSTART:20271107T060000
END:STANDARD
END:VTIMEZONE
BEGIN:VEVENT
DTSTART;TZID=America/Indiana/Indianapolis:20260506T103000
DTEND;TZID=America/Indiana/Indianapolis:20260506T143000
DTSTAMP:20260424T080113
CREATED:20260423T193956Z
LAST-MODIFIED:20260423T193956Z
UID:10003297-1778063400-1778077800@securityforcenow.com
SUMMARY:Free BBQ + Open House
DESCRIPTION:Join us at Security Force for a race-themed open house built around great food\, a fun atmosphere\, and the chance to win big. \nEnjoy a catered BBQ lunch while connecting with local professionals\, vendors\, and the Security Force team. As part of the event\, attendees can enter to win a pair of tickets to the Indy 500 on Sunday\, May 24th. \nThis event is free to attend\, with RSVP requested. \n Date: Wed\, May 6\, 2026 Time: 10:30 AM to 2:30 PM Location: Security Force 1250 Interchange Way\, Indianapolis\, IN 46239 \nWhat to Expect \n\nCatered BBQ lunch\nEntry to win Indianapolis 500 tickets and parking pass\nNetworking with local professionals and vendors\nHands-on walkthrough of modern security technology including cameras\, access control\, intercoms\, and more\n\n\nWhether you stop by for lunch\, networking\, or to explore new ideas\, this event is designed to be easy to attend and worthwhile.
URL:https://securityforcenow.com/event/free-bbq-open-house/
LOCATION:Security Force\, 1250 Interchange Way\,\, Indianapolis\, IN\, 46239
END:VEVENT
END:VCALENDAR