BEGIN:VCALENDAR
VERSION:2.0
PRODID:-//Security Force - ECPv6.15.20//NONSGML v1.0//EN
CALSCALE:GREGORIAN
METHOD:PUBLISH
X-ORIGINAL-URL:https://securityforcenow.com
X-WR-CALDESC:Events for Security Force
REFRESH-INTERVAL;VALUE=DURATION:PT1H
X-Robots-Tag:noindex
X-PUBLISHED-TTL:PT1H
BEGIN:VTIMEZONE
TZID:America/Indiana/Indianapolis
BEGIN:DAYLIGHT
TZOFFSETFROM:-0500
TZOFFSETTO:-0400
TZNAME:EDT
DTSTART:20250309T070000
END:DAYLIGHT
BEGIN:STANDARD
TZOFFSETFROM:-0400
TZOFFSETTO:-0500
TZNAME:EST
DTSTART:20251102T060000
END:STANDARD
BEGIN:DAYLIGHT
TZOFFSETFROM:-0500
TZOFFSETTO:-0400
TZNAME:EDT
DTSTART:20260308T070000
END:DAYLIGHT
BEGIN:STANDARD
TZOFFSETFROM:-0400
TZOFFSETTO:-0500
TZNAME:EST
DTSTART:20261101T060000
END:STANDARD
BEGIN:DAYLIGHT
TZOFFSETFROM:-0500
TZOFFSETTO:-0400
TZNAME:EDT
DTSTART:20270314T070000
END:DAYLIGHT
BEGIN:STANDARD
TZOFFSETFROM:-0400
TZOFFSETTO:-0500
TZNAME:EST
DTSTART:20271107T060000
END:STANDARD
END:VTIMEZONE
BEGIN:VEVENT
DTSTART;TZID=America/Indiana/Indianapolis:20260506T090000
DTEND;TZID=America/Indiana/Indianapolis:20260506T100000
DTSTAMP:20260424T080444
CREATED:20260423T175605Z
LAST-MODIFIED:20260423T180035Z
UID:10003295-1778058000-1778061600@securityforcenow.com
SUMMARY:GC/CM Connect
DESCRIPTION:GC/CM Connect is a new networking series designed to help Indiana subcontractors build strong\, productive relationships with leading general contractors and construction managers. Hosted by the Business Connections Committee\, each event offers a concentrated\, focused setting to learn about upcoming opportunities\, exchange insights\, and start conversations that can lead to future work. \n\nJoin us May 6 from 9:00–10:00 AM at Pepper Construction Company of Indiana’s Indianapolis office for our first GC/CM Connect. Attendees will have the opportunity to meet directly with the Pepper Construction team while enjoying fresh coffee from Travelin’ Tom’s Coffee. \nThis event is only for subcontractor or “regular” members of ISA. Limit two (2) attendees per company. Please only register if you are from a subcontractor company that is an active ISA member.
URL:https://securityforcenow.com/event/gc-cm-connect/
LOCATION:Pepper Construction Company of Indiana\, 1850 W 15th St\, Indianapolis\, IN\, 46202
END:VEVENT
END:VCALENDAR