BEGIN:VCALENDAR
VERSION:2.0
PRODID:-//Security Force - ECPv6.15.20//NONSGML v1.0//EN
CALSCALE:GREGORIAN
METHOD:PUBLISH
X-ORIGINAL-URL:https://securityforcenow.com
X-WR-CALDESC:Events for Security Force
REFRESH-INTERVAL;VALUE=DURATION:PT1H
X-Robots-Tag:noindex
X-PUBLISHED-TTL:PT1H
BEGIN:VTIMEZONE
TZID:America/Indiana/Indianapolis
BEGIN:DAYLIGHT
TZOFFSETFROM:-0500
TZOFFSETTO:-0400
TZNAME:EDT
DTSTART:20250309T070000
END:DAYLIGHT
BEGIN:STANDARD
TZOFFSETFROM:-0400
TZOFFSETTO:-0500
TZNAME:EST
DTSTART:20251102T060000
END:STANDARD
BEGIN:DAYLIGHT
TZOFFSETFROM:-0500
TZOFFSETTO:-0400
TZNAME:EDT
DTSTART:20260308T070000
END:DAYLIGHT
BEGIN:STANDARD
TZOFFSETFROM:-0400
TZOFFSETTO:-0500
TZNAME:EST
DTSTART:20261101T060000
END:STANDARD
BEGIN:DAYLIGHT
TZOFFSETFROM:-0500
TZOFFSETTO:-0400
TZNAME:EDT
DTSTART:20270314T070000
END:DAYLIGHT
BEGIN:STANDARD
TZOFFSETFROM:-0400
TZOFFSETTO:-0500
TZNAME:EST
DTSTART:20271107T060000
END:STANDARD
END:VTIMEZONE
BEGIN:VEVENT
DTSTART;TZID=America/Indiana/Indianapolis:20260423T153000
DTEND;TZID=America/Indiana/Indianapolis:20260423T170000
DTSTAMP:20260424T132615
CREATED:20260401T201311Z
LAST-MODIFIED:20260401T201311Z
UID:10002921-1776958200-1776963600@securityforcenow.com
SUMMARY:Major Hospital Expansion & Tour: Owner's Perspective
DESCRIPTION:This event will provide an owner’s perspective on a major expansion of an active hospital. The program will address the challenges\, solutions and best practices that went into the design and construction of the expansion which featured women’s health and pediatric care. Following the presentation\, facility tours of the new tower will be given in small groups of 10-15 people. Please plan on attending this event to better understand important aspects of delivering a successful healthcare facility from an owner’s perspective! We hope to see you on April 23. \nThank you to our sponsors: MSKTD & Associates and Messer Construction. \nThis event is co-hosted with EWHC\, Executive Women in Healthcare
URL:https://securityforcenow.com/event/major-hospital-expansion-tour-owners-perspective/
LOCATION:IU Health Fishers\, 13000 E 136th St\, Fishers\, 46037\, United States
END:VEVENT
END:VCALENDAR