BEGIN:VCALENDAR
VERSION:2.0
PRODID:-//Security Force - ECPv6.15.20//NONSGML v1.0//EN
CALSCALE:GREGORIAN
METHOD:PUBLISH
X-ORIGINAL-URL:https://securityforcenow.com
X-WR-CALDESC:Events for Security Force
REFRESH-INTERVAL;VALUE=DURATION:PT1H
X-Robots-Tag:noindex
X-PUBLISHED-TTL:PT1H
BEGIN:VTIMEZONE
TZID:America/Indiana/Indianapolis
BEGIN:DAYLIGHT
TZOFFSETFROM:-0500
TZOFFSETTO:-0400
TZNAME:EDT
DTSTART:20250309T070000
END:DAYLIGHT
BEGIN:STANDARD
TZOFFSETFROM:-0400
TZOFFSETTO:-0500
TZNAME:EST
DTSTART:20251102T060000
END:STANDARD
BEGIN:DAYLIGHT
TZOFFSETFROM:-0500
TZOFFSETTO:-0400
TZNAME:EDT
DTSTART:20260308T070000
END:DAYLIGHT
BEGIN:STANDARD
TZOFFSETFROM:-0400
TZOFFSETTO:-0500
TZNAME:EST
DTSTART:20261101T060000
END:STANDARD
BEGIN:DAYLIGHT
TZOFFSETFROM:-0500
TZOFFSETTO:-0400
TZNAME:EDT
DTSTART:20270314T070000
END:DAYLIGHT
BEGIN:STANDARD
TZOFFSETFROM:-0400
TZOFFSETTO:-0500
TZNAME:EST
DTSTART:20271107T060000
END:STANDARD
END:VTIMEZONE
BEGIN:VEVENT
DTSTART;TZID=America/Indiana/Indianapolis:20260409T113000
DTEND;TZID=America/Indiana/Indianapolis:20260409T130000
DTSTAMP:20260422T000128
CREATED:20260401T193620Z
LAST-MODIFIED:20260402T192159Z
UID:10002910-1775734200-1775739600@securityforcenow.com
SUMMARY:Small Group Lunch
DESCRIPTION:Meet a small group of Indy Chamber members for lunch! \nAre you seeking a chance to connect with a small group of fellow Indy Chamber members to exchange ideas and broaden your network? This is the perfect opportunity for you. Register now for this intimate lunch hosted by a Indy Chamber member. 
URL:https://securityforcenow.com/event/small-group-lunch-2/
LOCATION:Indiana Public Safety Foundation\, 200 East Washington Street Suite #E241\, Indianapolis\, IN\, 46204\, United States
END:VEVENT
END:VCALENDAR