BEGIN:VCALENDAR
VERSION:2.0
PRODID:-//Security Force - ECPv6.15.20//NONSGML v1.0//EN
CALSCALE:GREGORIAN
METHOD:PUBLISH
X-WR-CALNAME:Security Force
X-ORIGINAL-URL:https://securityforcenow.com
X-WR-CALDESC:Events for Security Force
REFRESH-INTERVAL;VALUE=DURATION:PT1H
X-Robots-Tag:noindex
X-PUBLISHED-TTL:PT1H
BEGIN:VTIMEZONE
TZID:America/Indiana/Indianapolis
BEGIN:DAYLIGHT
TZOFFSETFROM:-0500
TZOFFSETTO:-0400
TZNAME:EDT
DTSTART:20250309T070000
END:DAYLIGHT
BEGIN:STANDARD
TZOFFSETFROM:-0400
TZOFFSETTO:-0500
TZNAME:EST
DTSTART:20251102T060000
END:STANDARD
BEGIN:DAYLIGHT
TZOFFSETFROM:-0500
TZOFFSETTO:-0400
TZNAME:EDT
DTSTART:20260308T070000
END:DAYLIGHT
BEGIN:STANDARD
TZOFFSETFROM:-0400
TZOFFSETTO:-0500
TZNAME:EST
DTSTART:20261101T060000
END:STANDARD
BEGIN:DAYLIGHT
TZOFFSETFROM:-0500
TZOFFSETTO:-0400
TZNAME:EDT
DTSTART:20270314T070000
END:DAYLIGHT
BEGIN:STANDARD
TZOFFSETFROM:-0400
TZOFFSETTO:-0500
TZNAME:EST
DTSTART:20271107T060000
END:STANDARD
END:VTIMEZONE
BEGIN:VEVENT
DTSTART;TZID=America/Indiana/Indianapolis:20260416T163000
DTEND;TZID=America/Indiana/Indianapolis:20260416T180000
DTSTAMP:20260424T120744
CREATED:20260403T133821Z
LAST-MODIFIED:20260403T133821Z
UID:10002971-1776357000-1776362400@securityforcenow.com
SUMMARY:Off the Clock
DESCRIPTION:Join us for an Off the Clock event hosted by: Highline Technologies\, Inc and Memo Marketing Group \nThis after hours event will take place on Thursday\, April 16th\, from 4:30 – 6:00pm Event Hosted at: Club Works  \nClub Works \n6210 Technology Center Drive\nSte 300\nZionsville\, IN 46077\nCome enjoy appetizers\, drinks\, and networking with other professionals!
URL:https://securityforcenow.com/event/off-the-clock/
LOCATION:Club Works\, 6210 Technology Center Drive Ste 300\, Zionsville\, IN\, 46077
END:VEVENT
END:VCALENDAR