BEGIN:VCALENDAR
VERSION:2.0
PRODID:-//Security Force - ECPv6.15.20//NONSGML v1.0//EN
CALSCALE:GREGORIAN
METHOD:PUBLISH
X-WR-CALNAME:Security Force
X-ORIGINAL-URL:https://securityforcenow.com
X-WR-CALDESC:Events for Security Force
REFRESH-INTERVAL;VALUE=DURATION:PT1H
X-Robots-Tag:noindex
X-PUBLISHED-TTL:PT1H
BEGIN:VTIMEZONE
TZID:America/Indiana/Indianapolis
BEGIN:DAYLIGHT
TZOFFSETFROM:-0500
TZOFFSETTO:-0400
TZNAME:EDT
DTSTART:20250309T070000
END:DAYLIGHT
BEGIN:STANDARD
TZOFFSETFROM:-0400
TZOFFSETTO:-0500
TZNAME:EST
DTSTART:20251102T060000
END:STANDARD
BEGIN:DAYLIGHT
TZOFFSETFROM:-0500
TZOFFSETTO:-0400
TZNAME:EDT
DTSTART:20260308T070000
END:DAYLIGHT
BEGIN:STANDARD
TZOFFSETFROM:-0400
TZOFFSETTO:-0500
TZNAME:EST
DTSTART:20261101T060000
END:STANDARD
BEGIN:DAYLIGHT
TZOFFSETFROM:-0500
TZOFFSETTO:-0400
TZNAME:EDT
DTSTART:20270314T070000
END:DAYLIGHT
BEGIN:STANDARD
TZOFFSETFROM:-0400
TZOFFSETTO:-0500
TZNAME:EST
DTSTART:20271107T060000
END:STANDARD
END:VTIMEZONE
BEGIN:VEVENT
DTSTART;TZID=America/Indiana/Indianapolis:20260422T100000
DTEND;TZID=America/Indiana/Indianapolis:20260422T113000
DTSTAMP:20260421T065401
CREATED:20260317T132635Z
LAST-MODIFIED:20260420T131034Z
UID:10002633-1776852000-1776857400@securityforcenow.com
SUMMARY:Brownsburg Meeting
DESCRIPTION:PRO Networking NOW offers local professional business networking. Check us out at pronetworkingnow.com! \n\n\n\n\nThe best way to understand us is to visit us at pronetworkingnow.com! The focus of PRO Networking NOW is to remain committed to local membership needs and to always maintain a quality networking experience. \nJoin us to witness a better networking experience. Visitors are always welcome!
URL:https://securityforcenow.com/event/pro-networking-now-brownsburg-2/2026-04-22/
LOCATION:Elevate Office\, 7230 Arbuckle Commons\, Brownsburg\, IN\, 46112
END:VEVENT
BEGIN:VEVENT
DTSTART;TZID=America/Indiana/Indianapolis:20260422T100000
DTEND;TZID=America/Indiana/Indianapolis:20260422T113000
DTSTAMP:20260421T065401
CREATED:20260420T132519Z
LAST-MODIFIED:20260420T132519Z
UID:10003291-1776852000-1776857400@securityforcenow.com
SUMMARY:Brownsburg Meeting
DESCRIPTION:PRO Networking NOW offers local professional business networking. Check us out at pronetworkingnow.com! \n\n\n\n\nThe best way to understand us is to visit us at pronetworkingnow.com! The focus of PRO Networking NOW is to remain committed to local membership needs and to always maintain a quality networking experience. \nJoin us to witness a better networking experience. Visitors are always welcome!
URL:https://securityforcenow.com/event/brownsburg-meeting/
LOCATION:Elevate Office\, 7230 Arbuckle Commons\, Brownsburg\, IN\, 46112
END:VEVENT
END:VCALENDAR