BEGIN:VCALENDAR
VERSION:2.0
PRODID:-//Security Force - ECPv6.15.20//NONSGML v1.0//EN
CALSCALE:GREGORIAN
METHOD:PUBLISH
X-ORIGINAL-URL:https://securityforcenow.com
X-WR-CALDESC:Events for Security Force
REFRESH-INTERVAL;VALUE=DURATION:PT1H
X-Robots-Tag:noindex
X-PUBLISHED-TTL:PT1H
BEGIN:VTIMEZONE
TZID:America/Indiana/Indianapolis
BEGIN:DAYLIGHT
TZOFFSETFROM:-0500
TZOFFSETTO:-0400
TZNAME:EDT
DTSTART:20250309T070000
END:DAYLIGHT
BEGIN:STANDARD
TZOFFSETFROM:-0400
TZOFFSETTO:-0500
TZNAME:EST
DTSTART:20251102T060000
END:STANDARD
BEGIN:DAYLIGHT
TZOFFSETFROM:-0500
TZOFFSETTO:-0400
TZNAME:EDT
DTSTART:20260308T070000
END:DAYLIGHT
BEGIN:STANDARD
TZOFFSETFROM:-0400
TZOFFSETTO:-0500
TZNAME:EST
DTSTART:20261101T060000
END:STANDARD
BEGIN:DAYLIGHT
TZOFFSETFROM:-0500
TZOFFSETTO:-0400
TZNAME:EDT
DTSTART:20270314T070000
END:DAYLIGHT
BEGIN:STANDARD
TZOFFSETFROM:-0400
TZOFFSETTO:-0500
TZNAME:EST
DTSTART:20271107T060000
END:STANDARD
END:VTIMEZONE
BEGIN:VEVENT
DTSTART;TZID=America/Indiana/Indianapolis:20260318T090000
DTEND;TZID=America/Indiana/Indianapolis:20260318T100000
DTSTAMP:20260421T123933
CREATED:20260227T200058Z
LAST-MODIFIED:20260401T230540Z
UID:10001586-1773824400-1773828000@securityforcenow.com
SUMMARY:Indianapolis Senior
DESCRIPTION:Meeting Contact: Sue Pfohl  at suep@talktotucker.com \nH7 Indianapolis Senior is our weekly networking meetings open to B2C professionals. Our focus is serving the 55+ community by building a network of professionals that serve this growing audience.  Experience the distinct\, structural\, difference from other networking groups\, associations\, and chambers. Our community of meetings are led by Champion Leadership. \nAll meetings welcome visitors\, we’d love to show you what we’re all about! \n**Traditions at Solana -Enter off 78th Street from Keystone\, first right into the complex and 2nd exit off the roundabout – Meeting is in the main building.** \nPlease contact Donna Schomer\, Alpha Team Director\, with any questions at donna.h7network@gmail.com or visit www.h7network.com to learn more.
URL:https://securityforcenow.com/event/h7-indianapolis-senior/2026-03-18/
LOCATION:Traditions at Solana\, 7721 Battery Pointe Way\, Indianapolis\, IN\, 46240
END:VEVENT
BEGIN:VEVENT
DTSTART;TZID=America/Indiana/Indianapolis:20260317T083000
DTEND;TZID=America/Indiana/Indianapolis:20260317T093000
DTSTAMP:20260421T123933
CREATED:20260227T195800Z
LAST-MODIFIED:20260401T230723Z
UID:10001325-1773736200-1773739800@securityforcenow.com
SUMMARY:Westfield Meeting
DESCRIPTION:H7 Westfield is our weekly networking meetings open to local B2B and B2C professionals. Experience the distinct\, structural\, difference from other networking groups\, associations\, and chambers. Our community of meetings are led by Champion Leadership. All meetings welcome visitors\, we’d love to show you what we’re all about!  \nMeeting Contact: Andy Corman\, andy@actrashhauling.com \nPlease contact Donna Schomer\, Alpha Team Director\, with any questions at donna.h7network@gmail.com or visit www.h7network.com to learn more.
URL:https://securityforcenow.com/event/h7-westfield/2026-03-17/
LOCATION:Lincoln Square Pancake House\,\, 3186 IN-32\, Westfield\, IN\, 46074
END:VEVENT
BEGIN:VEVENT
DTSTART;TZID=America/Indiana/Indianapolis:20260316T120000
DTEND;TZID=America/Indiana/Indianapolis:20260316T130000
DTSTAMP:20260421T123934
CREATED:20260227T195502Z
LAST-MODIFIED:20260401T230632Z
UID:10001064-1773662400-1773666000@securityforcenow.com
SUMMARY:Carmel Meeting
DESCRIPTION:“Please save this to your calendar as a weekly event.” \nH7 Carmel is our weekly networking meetings open to local B2B and B2C professionals. Experience the distinct\, structural\, difference from other networking groups\, associations\, and chambers. Our community of meetings are led by Champion Leadership.  All meetings welcome visitors\, we’d love to show you what we’re all about! \nMeeting Contact: Seth Wilson at 317-603-8879 or snwilson15@gmail.com \nPlease contact Donna Schomer\, Alpha Team Director\, with any questions at donna.h7network@gmail.com or visit www.h7network.com to learn more.
URL:https://securityforcenow.com/event/h7-carmel/2026-03-16/
LOCATION:Wolfies Gril\, 1162 Keystone Way S\, Carmel\, IN\, 46032
END:VEVENT
BEGIN:VEVENT
DTSTART;TZID=America/Indiana/Indianapolis:20260312T080000
DTEND;TZID=America/Indiana/Indianapolis:20260312T090000
DTSTAMP:20260421T123934
CREATED:20260227T201418Z
LAST-MODIFIED:20260401T230338Z
UID:10002108-1773302400-1773306000@securityforcenow.com
SUMMARY:Noblesville Meeting
DESCRIPTION:H7 Noblesville is our weekly networking meetings open to local B2B and B2C professionals. Experience the distinct\, structural\, difference from other networking groups\, associations\, and chambers. Our community of meetings are led by Champion Leadership.  All meetings welcome visitors\, we’d love to show you what we’re all about! \nPerkins private room \nMeeting Contact: Jeanette McCormick   jeanette@williamsonlegacygroup.com \nPlease contact Donna Schomer\, Alpha Team Director\, with any questions at donna.h7network@gmail.com or visit www.h7network.com to learn more.
URL:https://securityforcenow.com/event/h7-noblesville/2026-03-12/
LOCATION:Perkins Noblesville\, 250 Noble Creek Dr\, Noblesville\, IN\, 46060
END:VEVENT
BEGIN:VEVENT
DTSTART;TZID=America/Indiana/Indianapolis:20260311T110000
DTEND;TZID=America/Indiana/Indianapolis:20260311T120000
DTSTAMP:20260421T123934
CREATED:20260227T201138Z
LAST-MODIFIED:20260227T201138Z
UID:10001846-1773226800-1773230400@securityforcenow.com
SUMMARY:The Business Growth Blueprint: Collaborate from Seed/Start-up to Growth
DESCRIPTION:Looking for The Business Growth Blueprint?  Join us every Wednesday at 11:00AM ET. \n\nJoin the Zoom Call \nFor more information contact: David Richardson at david@businessempirefinancial.com \nThe Business Growth Blueprint meeting structure is designed to encourage personal growth for professional success. The Idea is networking through our individual struggles from seed/start-up to growth\, to systemize our businesses as a group. \nOur “Alpha Team” Leaders emphasize the “Serve” inside of the H7 Network vision to revolutionize the way we “Connect\, Serve\, Ask” each other so schedule an intentional one to one with them while in your first meeting.\nOur group members want to grow personally and succeed professionally. We really believe in our H7 Community! \nWhat are the Features? \n\nCelebrations –  Members celebrate their one to ones with other members\nIntroductions – Introduce themselves with 3 words and the industry of their target markets\nSmall group breakouts – Breakout rooms are led by vetted H7 Alpha Team Leaders focused on helping you reach your word of mouth marketing goals.\nTake-aways – the goal is for the participants of each meeting to walk away with a meaningful connection to their “ask”\n\nEveryone from visitors to long standing H7 Network leaders are learning how to blend technology into a results oriented concept of business in the modern age. \nHow can I benefit? \nOur leadership team is well connected\, active and service minded. B2BV attendee’s move the needle for their businesses every week with our focus on “meaningful-connections” from every single meeting. Uncover hidden Centers of Influence\, while fulfilling the H7 Network vision of Connect\, Serve\, Ask. \nJoin the Zoom Call \nPlease contact Donna Schomer\, Alpha Team Director\, with any questions at donna.h7network@gmail.com or visit www.h7network.com to learn more.
URL:https://securityforcenow.com/event/the-business-growth-blueprint-collaborate-from-seed-start-up-to-growth/2026-03-11/
LOCATION:Virtual
END:VEVENT
BEGIN:VEVENT
DTSTART;TZID=America/Indiana/Indianapolis:20260311T090000
DTEND;TZID=America/Indiana/Indianapolis:20260311T100000
DTSTAMP:20260421T123934
CREATED:20260227T200058Z
LAST-MODIFIED:20260401T230540Z
UID:10001585-1773219600-1773223200@securityforcenow.com
SUMMARY:Indianapolis Senior
DESCRIPTION:Meeting Contact: Sue Pfohl  at suep@talktotucker.com \nH7 Indianapolis Senior is our weekly networking meetings open to B2C professionals. Our focus is serving the 55+ community by building a network of professionals that serve this growing audience.  Experience the distinct\, structural\, difference from other networking groups\, associations\, and chambers. Our community of meetings are led by Champion Leadership. \nAll meetings welcome visitors\, we’d love to show you what we’re all about! \n**Traditions at Solana -Enter off 78th Street from Keystone\, first right into the complex and 2nd exit off the roundabout – Meeting is in the main building.** \nPlease contact Donna Schomer\, Alpha Team Director\, with any questions at donna.h7network@gmail.com or visit www.h7network.com to learn more.
URL:https://securityforcenow.com/event/h7-indianapolis-senior/2026-03-11/
LOCATION:Traditions at Solana\, 7721 Battery Pointe Way\, Indianapolis\, IN\, 46240
END:VEVENT
BEGIN:VEVENT
DTSTART;TZID=America/Indiana/Indianapolis:20260310T083000
DTEND;TZID=America/Indiana/Indianapolis:20260310T093000
DTSTAMP:20260421T123934
CREATED:20260227T195800Z
LAST-MODIFIED:20260401T230723Z
UID:10001324-1773131400-1773135000@securityforcenow.com
SUMMARY:Westfield Meeting
DESCRIPTION:H7 Westfield is our weekly networking meetings open to local B2B and B2C professionals. Experience the distinct\, structural\, difference from other networking groups\, associations\, and chambers. Our community of meetings are led by Champion Leadership. All meetings welcome visitors\, we’d love to show you what we’re all about!  \nMeeting Contact: Andy Corman\, andy@actrashhauling.com \nPlease contact Donna Schomer\, Alpha Team Director\, with any questions at donna.h7network@gmail.com or visit www.h7network.com to learn more.
URL:https://securityforcenow.com/event/h7-westfield/2026-03-10/
LOCATION:Lincoln Square Pancake House\,\, 3186 IN-32\, Westfield\, IN\, 46074
END:VEVENT
BEGIN:VEVENT
DTSTART;TZID=America/Indiana/Indianapolis:20260309T120000
DTEND;TZID=America/Indiana/Indianapolis:20260309T130000
DTSTAMP:20260421T123934
CREATED:20260227T195502Z
LAST-MODIFIED:20260401T230632Z
UID:10001063-1773057600-1773061200@securityforcenow.com
SUMMARY:Carmel Meeting
DESCRIPTION:“Please save this to your calendar as a weekly event.” \nH7 Carmel is our weekly networking meetings open to local B2B and B2C professionals. Experience the distinct\, structural\, difference from other networking groups\, associations\, and chambers. Our community of meetings are led by Champion Leadership.  All meetings welcome visitors\, we’d love to show you what we’re all about! \nMeeting Contact: Seth Wilson at 317-603-8879 or snwilson15@gmail.com \nPlease contact Donna Schomer\, Alpha Team Director\, with any questions at donna.h7network@gmail.com or visit www.h7network.com to learn more.
URL:https://securityforcenow.com/event/h7-carmel/2026-03-09/
LOCATION:Wolfies Gril\, 1162 Keystone Way S\, Carmel\, IN\, 46032
END:VEVENT
BEGIN:VEVENT
DTSTART;TZID=America/Indiana/Indianapolis:20260305T080000
DTEND;TZID=America/Indiana/Indianapolis:20260305T090000
DTSTAMP:20260421T123934
CREATED:20260227T201418Z
LAST-MODIFIED:20260401T230338Z
UID:10002107-1772697600-1772701200@securityforcenow.com
SUMMARY:Noblesville Meeting
DESCRIPTION:H7 Noblesville is our weekly networking meetings open to local B2B and B2C professionals. Experience the distinct\, structural\, difference from other networking groups\, associations\, and chambers. Our community of meetings are led by Champion Leadership.  All meetings welcome visitors\, we’d love to show you what we’re all about! \nPerkins private room \nMeeting Contact: Jeanette McCormick   jeanette@williamsonlegacygroup.com \nPlease contact Donna Schomer\, Alpha Team Director\, with any questions at donna.h7network@gmail.com or visit www.h7network.com to learn more.
URL:https://securityforcenow.com/event/h7-noblesville/2026-03-05/
LOCATION:Perkins Noblesville\, 250 Noble Creek Dr\, Noblesville\, IN\, 46060
END:VEVENT
BEGIN:VEVENT
DTSTART;TZID=America/Indiana/Indianapolis:20260304T120000
DTEND;TZID=America/Indiana/Indianapolis:20260304T130000
DTSTAMP:20260421T123934
CREATED:20260227T201257Z
LAST-MODIFIED:20260227T201257Z
UID:10002106-1772625600-1772629200@securityforcenow.com
SUMMARY:H7 Fishers
DESCRIPTION:Looking for Fishers\, IN?  Join us every Wednesday at 12:00PM EDT.   \n“Please save this to your calendar as a weekly event.” \nH7 Fishers is our weekly networking meetings open to local B2B and B2C professionals. Experience the distinct\, structural\, difference from other networking groups\, associations\, and chambers. Our community of meetings are led by Champion Leadership. All meetings welcome visitors\, we’d love to show you what we’re all about!  \nMeeting contact:  Paul McCoy – 317-832-0912 paul@tidalcoach.com \nMeeting location:\nCafe’ Patachou  8654 E 116th St\, Fishers\, IN 46038\, United States \nPlease contact Donna Schomer\, Alpha Team Director\, with any questions at donna.h7network@gmail.com or visit www.h7network.com to learn more.
URL:https://securityforcenow.com/event/h7-fishers/
LOCATION:Cafe’ Patachou\, 8654 E 116th St\, Fishers\, IN\, 46038
END:VEVENT
BEGIN:VEVENT
DTSTART;TZID=America/Indiana/Indianapolis:20260304T110000
DTEND;TZID=America/Indiana/Indianapolis:20260304T120000
DTSTAMP:20260421T123934
CREATED:20260227T201138Z
LAST-MODIFIED:20260227T201138Z
UID:10001845-1772622000-1772625600@securityforcenow.com
SUMMARY:The Business Growth Blueprint: Collaborate from Seed/Start-up to Growth
DESCRIPTION:Looking for The Business Growth Blueprint?  Join us every Wednesday at 11:00AM ET. \n\nJoin the Zoom Call \nFor more information contact: David Richardson at david@businessempirefinancial.com \nThe Business Growth Blueprint meeting structure is designed to encourage personal growth for professional success. The Idea is networking through our individual struggles from seed/start-up to growth\, to systemize our businesses as a group. \nOur “Alpha Team” Leaders emphasize the “Serve” inside of the H7 Network vision to revolutionize the way we “Connect\, Serve\, Ask” each other so schedule an intentional one to one with them while in your first meeting.\nOur group members want to grow personally and succeed professionally. We really believe in our H7 Community! \nWhat are the Features? \n\nCelebrations –  Members celebrate their one to ones with other members\nIntroductions – Introduce themselves with 3 words and the industry of their target markets\nSmall group breakouts – Breakout rooms are led by vetted H7 Alpha Team Leaders focused on helping you reach your word of mouth marketing goals.\nTake-aways – the goal is for the participants of each meeting to walk away with a meaningful connection to their “ask”\n\nEveryone from visitors to long standing H7 Network leaders are learning how to blend technology into a results oriented concept of business in the modern age. \nHow can I benefit? \nOur leadership team is well connected\, active and service minded. B2BV attendee’s move the needle for their businesses every week with our focus on “meaningful-connections” from every single meeting. Uncover hidden Centers of Influence\, while fulfilling the H7 Network vision of Connect\, Serve\, Ask. \nJoin the Zoom Call \nPlease contact Donna Schomer\, Alpha Team Director\, with any questions at donna.h7network@gmail.com or visit www.h7network.com to learn more.
URL:https://securityforcenow.com/event/the-business-growth-blueprint-collaborate-from-seed-start-up-to-growth/2026-03-04/
LOCATION:Virtual
END:VEVENT
BEGIN:VEVENT
DTSTART;TZID=America/Indiana/Indianapolis:20260304T090000
DTEND;TZID=America/Indiana/Indianapolis:20260304T100000
DTSTAMP:20260421T123934
CREATED:20260227T200058Z
LAST-MODIFIED:20260401T230540Z
UID:10001584-1772614800-1772618400@securityforcenow.com
SUMMARY:Indianapolis Senior
DESCRIPTION:Meeting Contact: Sue Pfohl  at suep@talktotucker.com \nH7 Indianapolis Senior is our weekly networking meetings open to B2C professionals. Our focus is serving the 55+ community by building a network of professionals that serve this growing audience.  Experience the distinct\, structural\, difference from other networking groups\, associations\, and chambers. Our community of meetings are led by Champion Leadership. \nAll meetings welcome visitors\, we’d love to show you what we’re all about! \n**Traditions at Solana -Enter off 78th Street from Keystone\, first right into the complex and 2nd exit off the roundabout – Meeting is in the main building.** \nPlease contact Donna Schomer\, Alpha Team Director\, with any questions at donna.h7network@gmail.com or visit www.h7network.com to learn more.
URL:https://securityforcenow.com/event/h7-indianapolis-senior/2026-03-04/
LOCATION:Traditions at Solana\, 7721 Battery Pointe Way\, Indianapolis\, IN\, 46240
END:VEVENT
BEGIN:VEVENT
DTSTART;TZID=America/Indiana/Indianapolis:20260303T083000
DTEND;TZID=America/Indiana/Indianapolis:20260303T093000
DTSTAMP:20260421T123934
CREATED:20260227T195800Z
LAST-MODIFIED:20260401T230723Z
UID:10001323-1772526600-1772530200@securityforcenow.com
SUMMARY:Westfield Meeting
DESCRIPTION:H7 Westfield is our weekly networking meetings open to local B2B and B2C professionals. Experience the distinct\, structural\, difference from other networking groups\, associations\, and chambers. Our community of meetings are led by Champion Leadership. All meetings welcome visitors\, we’d love to show you what we’re all about!  \nMeeting Contact: Andy Corman\, andy@actrashhauling.com \nPlease contact Donna Schomer\, Alpha Team Director\, with any questions at donna.h7network@gmail.com or visit www.h7network.com to learn more.
URL:https://securityforcenow.com/event/h7-westfield/2026-03-03/
LOCATION:Lincoln Square Pancake House\,\, 3186 IN-32\, Westfield\, IN\, 46074
END:VEVENT
BEGIN:VEVENT
DTSTART;TZID=America/Indiana/Indianapolis:20260302T120000
DTEND;TZID=America/Indiana/Indianapolis:20260302T130000
DTSTAMP:20260421T123934
CREATED:20260227T195502Z
LAST-MODIFIED:20260401T230632Z
UID:10001062-1772452800-1772456400@securityforcenow.com
SUMMARY:Carmel Meeting
DESCRIPTION:“Please save this to your calendar as a weekly event.” \nH7 Carmel is our weekly networking meetings open to local B2B and B2C professionals. Experience the distinct\, structural\, difference from other networking groups\, associations\, and chambers. Our community of meetings are led by Champion Leadership.  All meetings welcome visitors\, we’d love to show you what we’re all about! \nMeeting Contact: Seth Wilson at 317-603-8879 or snwilson15@gmail.com \nPlease contact Donna Schomer\, Alpha Team Director\, with any questions at donna.h7network@gmail.com or visit www.h7network.com to learn more.
URL:https://securityforcenow.com/event/h7-carmel/2026-03-02/
LOCATION:Wolfies Gril\, 1162 Keystone Way S\, Carmel\, IN\, 46032
END:VEVENT
END:VCALENDAR