BEGIN:VCALENDAR
VERSION:2.0
PRODID:-//Security Force - ECPv6.15.20//NONSGML v1.0//EN
CALSCALE:GREGORIAN
METHOD:PUBLISH
X-ORIGINAL-URL:https://securityforcenow.com
X-WR-CALDESC:Events for Security Force
REFRESH-INTERVAL;VALUE=DURATION:PT1H
X-Robots-Tag:noindex
X-PUBLISHED-TTL:PT1H
BEGIN:VTIMEZONE
TZID:America/Indiana/Indianapolis
BEGIN:DAYLIGHT
TZOFFSETFROM:-0500
TZOFFSETTO:-0400
TZNAME:EDT
DTSTART:20250309T070000
END:DAYLIGHT
BEGIN:STANDARD
TZOFFSETFROM:-0400
TZOFFSETTO:-0500
TZNAME:EST
DTSTART:20251102T060000
END:STANDARD
BEGIN:DAYLIGHT
TZOFFSETFROM:-0500
TZOFFSETTO:-0400
TZNAME:EDT
DTSTART:20260308T070000
END:DAYLIGHT
BEGIN:STANDARD
TZOFFSETFROM:-0400
TZOFFSETTO:-0500
TZNAME:EST
DTSTART:20261101T060000
END:STANDARD
BEGIN:DAYLIGHT
TZOFFSETFROM:-0500
TZOFFSETTO:-0400
TZNAME:EDT
DTSTART:20270314T070000
END:DAYLIGHT
BEGIN:STANDARD
TZOFFSETFROM:-0400
TZOFFSETTO:-0500
TZNAME:EST
DTSTART:20271107T060000
END:STANDARD
END:VTIMEZONE
BEGIN:VEVENT
DTSTART;TZID=America/Indiana/Indianapolis:20261104T090000
DTEND;TZID=America/Indiana/Indianapolis:20261104T100000
DTSTAMP:20260421T053335
CREATED:20260227T192419Z
LAST-MODIFIED:20260401T230951Z
UID:10000711-1793782800-1793786400@securityforcenow.com
SUMMARY:Wednesday Meeting
DESCRIPTION:Join us every Wednesday at Cross America\, Inc from 9:00-10AM! At the roundtable you will have the opportunity to network with our members and other local businesses. Coffee is available for purchase at Doubting Thomas Café located inside Cross America. There is no charge to attend as a guest
URL:https://securityforcenow.com/event/kokomo-business-network-kbn/2026-11-04/
LOCATION:Cross America\, Inc\, 840 Daniel Drive\, Kokomo\, IN\, 46901
END:VEVENT
BEGIN:VEVENT
DTSTART;TZID=America/Indiana/Indianapolis:20261104T090000
DTEND;TZID=America/Indiana/Indianapolis:20261104T100000
DTSTAMP:20260421T053335
CREATED:20260227T200058Z
LAST-MODIFIED:20260401T230540Z
UID:10001619-1793782800-1793786400@securityforcenow.com
SUMMARY:Indianapolis Senior
DESCRIPTION:Meeting Contact: Sue Pfohl  at suep@talktotucker.com \nH7 Indianapolis Senior is our weekly networking meetings open to B2C professionals. Our focus is serving the 55+ community by building a network of professionals that serve this growing audience.  Experience the distinct\, structural\, difference from other networking groups\, associations\, and chambers. Our community of meetings are led by Champion Leadership. \nAll meetings welcome visitors\, we’d love to show you what we’re all about! \n**Traditions at Solana -Enter off 78th Street from Keystone\, first right into the complex and 2nd exit off the roundabout – Meeting is in the main building.** \nPlease contact Donna Schomer\, Alpha Team Director\, with any questions at donna.h7network@gmail.com or visit www.h7network.com to learn more.
URL:https://securityforcenow.com/event/h7-indianapolis-senior/2026-11-04/
LOCATION:Traditions at Solana\, 7721 Battery Pointe Way\, Indianapolis\, IN\, 46240
END:VEVENT
END:VCALENDAR